BEGIN:VCALENDAR
VERSION:2.0
PRODID:-//Christengemeinde Trier - ECPv6.15.20//NONSGML v1.0//EN
CALSCALE:GREGORIAN
METHOD:PUBLISH
X-ORIGINAL-URL:https://cgtrier.de
X-WR-CALDESC:Veranstaltungen für Christengemeinde Trier
REFRESH-INTERVAL;VALUE=DURATION:PT1H
X-Robots-Tag:noindex
X-PUBLISHED-TTL:PT1H
BEGIN:VTIMEZONE
TZID:Europe/Paris
BEGIN:DAYLIGHT
TZOFFSETFROM:+0100
TZOFFSETTO:+0200
TZNAME:CEST
DTSTART:20250330T010000
END:DAYLIGHT
BEGIN:STANDARD
TZOFFSETFROM:+0200
TZOFFSETTO:+0100
TZNAME:CET
DTSTART:20251026T010000
END:STANDARD
BEGIN:DAYLIGHT
TZOFFSETFROM:+0100
TZOFFSETTO:+0200
TZNAME:CEST
DTSTART:20260329T010000
END:DAYLIGHT
BEGIN:STANDARD
TZOFFSETFROM:+0200
TZOFFSETTO:+0100
TZNAME:CET
DTSTART:20261025T010000
END:STANDARD
BEGIN:DAYLIGHT
TZOFFSETFROM:+0100
TZOFFSETTO:+0200
TZNAME:CEST
DTSTART:20270328T010000
END:DAYLIGHT
BEGIN:STANDARD
TZOFFSETFROM:+0200
TZOFFSETTO:+0100
TZNAME:CET
DTSTART:20271031T010000
END:STANDARD
END:VTIMEZONE
BEGIN:VEVENT
DTSTART;TZID=Europe/Paris:20260301T160000
DTEND;TZID=Europe/Paris:20260301T180000
DTSTAMP:20260421T181127
CREATED:20260215T201134Z
LAST-MODIFIED:20260215T201134Z
UID:11328-1772380800-1772388000@cgtrier.de
SUMMARY:Wir treffen uns\, 01. März in der STAMI
DESCRIPTION:In unseren Mitmach- Gottesdiensten nehmen wir uns Zeit\, Gott zu feiern. Jeder kann etwas beitragen! Das erwartet dich In der Lobpreiszeit singen wir von Gottes Größe. Singe kräftig mit – die Lieder werden auf eine Leinwand gebeamt. Höre von Menschen\, was sie mit Gott erlebt haben. Vielleicht hast du auch etwas mit IHM erlebt und willst es erzählen. In der Predigt hören und lernen wir aus Gottes Wort. Du hast ein Anliegen\, für das du Gebet möchtest? Wir beten gerne für dich\, sprich uns gerne an. Organisatorisches Du brauchst Übersetzung? Auf Anfrage können wir dir Übersetzung auf Englisch organisieren. Du hast Kinder\, die beschäftigt werden wollen? Es gibt einen Kinderraum\, und wir können auch auf Anfrage Betreuung bereit stellen. Du kannst nicht vor Ort sein\, möchtest aber trotzem den Gottesdienst erleben? Unser Mediendienst stellt eine Übertragung der Gottesdienste via Zoom an. Schreibe dazu bitte eine e-mail an info-cgt (at) cgtrier.de mit Betreff „Zugang für Zoom“. Die Gottesdienste werde auch aufgezeichnet und auf unserer Podcast- Seite bereitgestellt.
URL:https://cgtrier.de/event/wir-treffen-uns-01-maerz-in-der-stami/
LOCATION:Evangelische Stadtmission Trier\, Kaiserstraße 26\, Trier\, Rheinland-Pfalz\, 54290\, Deutschland
CATEGORIES:Gottesdienst
END:VEVENT
BEGIN:VEVENT
DTSTART;TZID=Europe/Paris:20260308T160000
DTEND;TZID=Europe/Paris:20260308T180000
DTSTAMP:20260421T181127
CREATED:20260215T201200Z
LAST-MODIFIED:20260215T201200Z
UID:11330-1772985600-1772992800@cgtrier.de
SUMMARY:Wir treffen uns\, 08. März in der STAMI
DESCRIPTION:In unseren Mitmach- Gottesdiensten nehmen wir uns Zeit\, Gott zu feiern. Jeder kann etwas beitragen! Das erwartet dich In der Lobpreiszeit singen wir von Gottes Größe. Singe kräftig mit – die Lieder werden auf eine Leinwand gebeamt. Höre von Menschen\, was sie mit Gott erlebt haben. Vielleicht hast du auch etwas mit IHM erlebt und willst es erzählen. In der Predigt hören und lernen wir aus Gottes Wort. Du hast ein Anliegen\, für das du Gebet möchtest? Wir beten gerne für dich\, sprich uns gerne an. Organisatorisches Du brauchst Übersetzung? Auf Anfrage können wir dir Übersetzung auf Englisch organisieren. Du hast Kinder\, die beschäftigt werden wollen? Es gibt einen Kinderraum\, und wir können auch auf Anfrage Betreuung bereit stellen. Du kannst nicht vor Ort sein\, möchtest aber trotzem den Gottesdienst erleben? Unser Mediendienst stellt eine Übertragung der Gottesdienste via Zoom an. Schreibe dazu bitte eine e-mail an info-cgt (at) cgtrier.de mit Betreff „Zugang für Zoom“. Die Gottesdienste werde auch aufgezeichnet und auf unserer Podcast- Seite bereitgestellt.
URL:https://cgtrier.de/event/wir-treffen-uns-08-maerz-in-der-stami/
LOCATION:Evangelische Stadtmission Trier\, Kaiserstraße 26\, Trier\, Rheinland-Pfalz\, 54290\, Deutschland
CATEGORIES:Gottesdienst
END:VEVENT
BEGIN:VEVENT
DTSTART;TZID=Europe/Paris:20260315T160000
DTEND;TZID=Europe/Paris:20260315T180000
DTSTAMP:20260421T181127
CREATED:20260215T201234Z
LAST-MODIFIED:20260215T201234Z
UID:11332-1773590400-1773597600@cgtrier.de
SUMMARY:Wir treffen uns\, 15. März in der STAMI
DESCRIPTION:In unseren Mitmach- Gottesdiensten nehmen wir uns Zeit\, Gott zu feiern. Jeder kann etwas beitragen! Das erwartet dich In der Lobpreiszeit singen wir von Gottes Größe. Singe kräftig mit – die Lieder werden auf eine Leinwand gebeamt. Höre von Menschen\, was sie mit Gott erlebt haben. Vielleicht hast du auch etwas mit IHM erlebt und willst es erzählen. In der Predigt hören und lernen wir aus Gottes Wort. Du hast ein Anliegen\, für das du Gebet möchtest? Wir beten gerne für dich\, sprich uns gerne an. Organisatorisches Du brauchst Übersetzung? Auf Anfrage können wir dir Übersetzung auf Englisch organisieren. Du hast Kinder\, die beschäftigt werden wollen? Es gibt einen Kinderraum\, und wir können auch auf Anfrage Betreuung bereit stellen. Du kannst nicht vor Ort sein\, möchtest aber trotzem den Gottesdienst erleben? Unser Mediendienst stellt eine Übertragung der Gottesdienste via Zoom an. Schreibe dazu bitte eine e-mail an info-cgt (at) cgtrier.de mit Betreff „Zugang für Zoom“. Die Gottesdienste werde auch aufgezeichnet und auf unserer Podcast- Seite bereitgestellt.
URL:https://cgtrier.de/event/wir-treffen-uns-15-maerz-in-der-stami/
LOCATION:Evangelische Stadtmission Trier\, Kaiserstraße 26\, Trier\, Rheinland-Pfalz\, 54290\, Deutschland
CATEGORIES:Gottesdienst
END:VEVENT
BEGIN:VEVENT
DTSTART;TZID=Europe/Paris:20260329T160000
DTEND;TZID=Europe/Paris:20260329T170000
DTSTAMP:20260421T181127
CREATED:20260328T224013Z
LAST-MODIFIED:20260328T224013Z
UID:11350-1774800000-1774803600@cgtrier.de
SUMMARY:Wir treffen uns\, 29. März in der CKC
DESCRIPTION:In unseren Mitmach- Gottesdiensten nehmen wir uns Zeit\, Gott zu feiern. Jeder kann etwas beitragen! Das erwartet dich In der Lobpreiszeit singen wir von Gottes Größe. Singe kräftig mit – die Lieder werden auf eine Leinwand gebeamt. Höre von Menschen\, was sie mit Gott erlebt haben. Vielleicht hast du auch etwas mit IHM erlebt und willst es erzählen. In der Predigt hören und lernen wir aus Gottes Wort. Du hast ein Anliegen\, für das du Gebet möchtest? Wir beten gerne für dich\, sprich uns gerne an. Organisatorisches Du brauchst Übersetzung? Auf Anfrage können wir dir Übersetzung auf Englisch organisieren. Du hast Kinder\, die beschäftigt werden wollen? Es gibt einen Kinderraum\, und wir können auch auf Anfrage Betreuung bereit stellen. Du kannst nicht vor Ort sein\, möchtest aber trotzem den Gottesdienst erleben? Unser Mediendienst stellt eine Übertragung der Gottesdienste via Zoom an. Schreibe dazu bitte eine e-mail an info-cgt (at) cgtrier.de mit Betreff „Zugang für Zoom“. Die Gottesdienste werde auch aufgezeichnet und auf unserer Podcast- Seite bereitgestellt.
URL:https://cgtrier.de/event/wir-treffen-uns-29-maerz-in-der-ckc/
LOCATION:CKC\, Loebstraße 15\, Trier-Nord\, Deutschland
CATEGORIES:Gottesdienst
END:VEVENT
END:VCALENDAR